BEGIN:VCALENDAR
VERSION:2.0
PRODID:gruene-wennigsen.de
METHOD:PUBLISH
BEGIN:VTIMEZONE
TZID:Europe/Berlin
X-LIC-LOCATION:Europe/Berlin
BEGIN:DAYLIGHT
TZOFFSETFROM:+0100
TZOFFSETTO:+0200
TZNAME:CEST
DTSTART:19700329T020000
RRULE:FREQ=YEARLY;INTERVAL=1;BYDAY=-1SU;BYMONTH=3
END:DAYLIGHT
BEGIN:STANDARD
TZOFFSETFROM:+0200
TZOFFSETTO:+0100
TZNAME:CET
DTSTART:19701025T030000
RRULE:FREQ=YEARLY;INTERVAL=1;BYDAY=-1SU;BYMONTH=10
END:STANDARD
END:VTIMEZONE
BEGIN:VEVENT
UID:bee5e5af7af2f0852583dd0a26be4353@gruene-wennigsen.de
URL;VALUE=URI:https://gruene-wennigsen.de/termine/rat-der-gemeinde-wennig
 sen-3/
LOCATION:Rathaus, Hauptstraße 1-2, 30974 Wennigsen (Deister), Bürgersaa
 l
SUMMARY:Rat der Gemeinde Wennigsen
DESCRIPTION;ALTREP="data:text/html,%3Cp%3ELink%20zur%20Tagesordnung%3A%20
 https%3A%2F%2Fwennigsen.ratsinfomanagement.net%2Ftops%2F%3F__%3DUGhVM0hpd
 2NXNFdFcExjZf8HMlkjvXx68cd_NWIib78%3C%2Fp%3E":Link zur Tagesordnung: http
 s://wennigsen.ratsinfomanagement.net/tops/?__=UGhVM0hpd2NXNFdFcExjZf8HMlk
 jvXx68cd_NWIib78
CLASS:PUBLIC
DTSTART;TZID=Europe/Berlin:20260625T183000
DTEND;TZID=Europe/Berlin:20260625T210000
DTSTAMP:20260420T042805
END:VEVENT
END:VCALENDAR