BEGIN:VCALENDAR
VERSION:2.0
PRODID:gruene-wennigsen.de
METHOD:PUBLISH
BEGIN:VTIMEZONE
TZID:Europe/Berlin
X-LIC-LOCATION:Europe/Berlin
BEGIN:DAYLIGHT
TZOFFSETFROM:+0100
TZOFFSETTO:+0200
TZNAME:CEST
DTSTART:19700329T020000
RRULE:FREQ=YEARLY;INTERVAL=1;BYDAY=-1SU;BYMONTH=3
END:DAYLIGHT
BEGIN:STANDARD
TZOFFSETFROM:+0200
TZOFFSETTO:+0100
TZNAME:CET
DTSTART:19701025T030000
RRULE:FREQ=YEARLY;INTERVAL=1;BYDAY=-1SU;BYMONTH=10
END:STANDARD
END:VTIMEZONE
BEGIN:VEVENT
UID:1287ff800c3dfa3b92b64c6e32debe28@gruene-wennigsen.de
URL;VALUE=URI:https://gruene-wennigsen.de/termine/ortsrat-sorsum/
LOCATION:Dorfgemeinschaftshaus Sorsum, Weetzener Str. 35, 30974 Wennigsen
  (Deister), Dorfgemeinschaftsraum
SUMMARY:Ortsrat Sorsum
DESCRIPTION;ALTREP="data:text/html,%3Cp%3ELink%20zur%20Tagesordnung%3A%20
 https%3A%2F%2Fwennigsen.ratsinfomanagement.net%2Ftops%2F%3F__%3DUGhVM0hpd
 2NXNFdFcExjZfRatFa5jaYxzY4_M-WxmzY%3Cbr%20%2F%3E%0A%3Cbr%20%2F%3E%0ABemer
 kung%3A%3Cbr%20%2F%3E%0ABedarfstermin%3C%2Fp%3E":Link zur Tagesordnung: h
 ttps://wennigsen.ratsinfomanagement.net/tops/?__=UGhVM0hpd2NXNFdFcExjZfRa
 tFa5jaYxzY4_M-WxmzY\n\nBemerkung:\n\nBedarfstermin
CLASS:PUBLIC
DTSTART;TZID=Europe/Berlin:20260824T190000
DTEND;TZID=Europe/Berlin:20260824T200000
DTSTAMP:20260420T041759
END:VEVENT
END:VCALENDAR