BEGIN:VCALENDAR
VERSION:2.0
PRODID:gruene-wennigsen.de
METHOD:PUBLISH
BEGIN:VTIMEZONE
TZID:Europe/Berlin
X-LIC-LOCATION:Europe/Berlin
BEGIN:DAYLIGHT
TZOFFSETFROM:+0100
TZOFFSETTO:+0200
TZNAME:CEST
DTSTART:19700329T020000
RRULE:FREQ=YEARLY;INTERVAL=1;BYDAY=-1SU;BYMONTH=3
END:DAYLIGHT
BEGIN:STANDARD
TZOFFSETFROM:+0200
TZOFFSETTO:+0100
TZNAME:CET
DTSTART:19701025T030000
RRULE:FREQ=YEARLY;INTERVAL=1;BYDAY=-1SU;BYMONTH=10
END:STANDARD
END:VTIMEZONE
BEGIN:VEVENT
UID:550ba23ffc64e51d91d0e4cb8116a27c@gruene-wennigsen.de
URL;VALUE=URI:https://gruene-wennigsen.de/termine/infostaende-wennigsenbr
 edenbeck-mit-michael-steinke/
LOCATION:Edeka bzw. nah&gut
SUMMARY:Aktualisierung: Infostände Wennigsen+Bredenbeck (mit Michael Ste
 inke)
DESCRIPTION;ALTREP="data:text/html,%0A%3Cdiv%20class%3D%22wp-block-group%
 20is-layout-constrained%20wp-block-group-is-layout-constrained%22%3E%0A%3
 Cp%3EAm%20Samstag%2C%2015.02.%2C%20werden%20wir%20wieder%20mit%20zwei%20W
 ahlkampfst%C3%A4nde%20pr%C3%A4sent%20sein%3A%20von%2010%3A00%20bis%20ca.%
 2013%3A00%20Uhr%20sowohl%20in%20Wennigsen%20bei%20Edeka%20Ladage%20als%20
 auch%20in%20Bredenbeck%20bei%20nah%26amp%3Bgut%20Ladage.%3C%2Fp%3E%0A%0A%
 0A%0A%3Cp%3EDabei%20wird%20auch%20unser%20Kandidat%20f%C3%BCr%20den%20hie
 sigen%20Wahlkreis%2C%20Dr.%20Michael%20Steinke%20aus%20Gehrden%2C%20mit%2
 0dabei%20sein%20und%20f%C3%BCr%20Fragen%20zur%20Verf%C3%BCgung%20stehen%3
 A%20in%20W.%2010%3A00-11%3A00%2C%20in%20Bred.%20ca.%2011%3A30-12%3A30%20.
 %3C%2Fp%3E%0A%0A%0A%0A%3Cdiv%20style%3D%22height%3A38px%22%20aria-hidden%
 3D%22true%22%20class%3D%22wp-block-spacer%22%3E%3C%2Fdiv%3E%0A%0A%0A%0A%3
 Cp%3EWir%20setzen%20die%20Sammlung%20von%20Verbandsk%C3%A4sten%20und%20-m
 aterial%20f%C3%BCr%20die%20Ukraine%20fort%2C%20ebenso%20sammeln%20wir%20a
 lte%20Brillen%20zur%20Weitergabe%20an%20bed%C3%BCrftige%20Menschen.%3C%2F
 p%3E%0A%3C%2Fdiv%3E%0A":Am Samstag\, 15.02.\, werden wir wieder mit zwei 
 Wahlkampfstände präsent sein: von 10:00 bis ca. 13:00 Uhr sowohl in Wen
 nigsen bei Edeka Ladage als auch in Bredenbeck bei nah&gut Ladage.\n\nDab
 ei wird auch unser Kandidat für den hiesigen Wahlkreis\, Dr. Michael Ste
 inke aus Gehrden\, mit dabei sein und für Fragen zur Verfügung stehen: 
 in W. 10:00-11:00\, in Bred. ca. 11:30-12:30 .\n\nWir setzen die Sammlung
  von Verbandskästen und -material für die Ukraine fort\, ebenso sammeln
  wir alte Brillen zur Weitergabe an bedürftige Menschen.
CLASS:PUBLIC
DTSTART;TZID=Europe/Berlin:20250215T100000
DTEND;TZID=Europe/Berlin:20250215T130000
DTSTAMP:20260420T094641
END:VEVENT
END:VCALENDAR