BEGIN:VCALENDAR
VERSION:2.0
PRODID:gruene-wennigsen.de
METHOD:PUBLISH
BEGIN:VTIMEZONE
TZID:Europe/Berlin
X-LIC-LOCATION:Europe/Berlin
BEGIN:DAYLIGHT
TZOFFSETFROM:+0100
TZOFFSETTO:+0200
TZNAME:CEST
DTSTART:19700329T020000
RRULE:FREQ=YEARLY;INTERVAL=1;BYDAY=-1SU;BYMONTH=3
END:DAYLIGHT
BEGIN:STANDARD
TZOFFSETFROM:+0200
TZOFFSETTO:+0100
TZNAME:CET
DTSTART:19701025T030000
RRULE:FREQ=YEARLY;INTERVAL=1;BYDAY=-1SU;BYMONTH=10
END:STANDARD
END:VTIMEZONE
BEGIN:VEVENT
UID:7aae94fc5278629933e05b2ea656ae98@gruene-wennigsen.de
URL;VALUE=URI:https://gruene-wennigsen.de/termine/gruener-dialog-klimager
 echtigkeit-am-ende/
LOCATION:WIR, Klosteramthof 1, Wennigsen
SUMMARY:Grüner Dialog: Klimagerechtigkeit am Ende?
DESCRIPTION;ALTREP="data:text/html,%0A%3Cdiv%20class%3D%22wp-block-group%
 20is-layout-constrained%20wp-block-group-is-layout-constrained%22%3E%0A%3
 Cp%3EF%C3%BCr%C2%A0%3Cstrong%3EFreitag%2C%20den%2021.%20November%2019%3A3
 0%20Uhr%3C%2Fstrong%3E%2C%20laden%20die%20Gr%C3%BCnen%20Wennigsen%20zum%2
 0Gr%C3%BCnen%20Dialog%20in%20das%20WIR%20in%20Wennigsen%20%28Klosteramtho
 f%201%29%20ein.%3Cbr%3EIm%20Mittelpunkt%20steht%20die%20Frage%2C%20wie%20
 es%20nach%20der%20Klimakonferenz%20COP30%20in%20Brasilien%20um%20die%20we
 ltweite%20Klimagerechtigkeit%20steht.%3C%2Fp%3E%0A%0A%0A%0A%3Cp%3E%3Cstro
 ng%3EReferent%20Prof.%20i.R.%20Dr.%20Gerhard%20Kruip%3C%2Fstrong%3E%2C%20
 Sozialethiker%20und%20Mitglied%20der%20Gr%C3%BCnen%20Wennigsen%2C%20gibt%
 20einen%20Zwischenbericht%20zu%20den%20Herausforderungen%20und%20Ergebnis
 sen%20der%20Konferenz.%3C%2Fp%3E%0A%0A%0A%0A%3Cp%3EAnschlie%C3%9Fend%20is
 t%20Zeit%20f%C3%BCr%20Fragen%2C%20Austausch%20und%20Diskussion%20%E2%80%9
 3%20zum%20Thema%20oder%20auch%20dar%C3%BCber%20hinaus.%3C%2Fp%3E%0A%0A%0A
 %0A%3Cp%3E%E2%9E%A1%EF%B8%8F%26nbsp%3B%3Cstrong%3EEintritt%20frei%20%E2%8
 0%93%20alle%20Interessierten%20sind%20herzlich%20willkommen%21%3C%2Fstron
 g%3E%3C%2Fp%3E%0A%3C%2Fdiv%3E%0A":Für Freitag\, den 21. November 19:30 
 Uhr\, laden die Grünen Wennigsen zum Grünen Dialog in das WIR in Wennig
 sen (Klosteramthof 1) ein.Im Mittelpunkt steht die Frage\, wie es nach de
 r Klimakonferenz COP30 in Brasilien um die weltweite Klimagerechtigkeit s
 teht.\n\nReferent Prof. i.R. Dr. Gerhard Kruip\, Sozialethiker und Mitgli
 ed der Grünen Wennigsen\, gibt einen Zwischenbericht zu den Herausforder
 ungen und Ergebnissen der Konferenz.\n\nAnschließend ist Zeit für Frage
 n\, Austausch und Diskussion – zum Thema oder auch darüber hinaus.\n\n
 ➡️ Eintritt frei – alle Interessierten sind herzlich willkommen!
CLASS:PUBLIC
DTSTART;TZID=Europe/Berlin:20251121T193000
DTEND;TZID=Europe/Berlin:20251121T220000
DTSTAMP:20260420T095252
END:VEVENT
END:VCALENDAR