BEGIN:VCALENDAR
VERSION:2.0
PRODID:gruene-wennigsen.de
METHOD:PUBLISH
BEGIN:VTIMEZONE
TZID:Europe/Berlin
X-LIC-LOCATION:Europe/Berlin
BEGIN:DAYLIGHT
TZOFFSETFROM:+0100
TZOFFSETTO:+0200
TZNAME:CEST
DTSTART:19700329T020000
RRULE:FREQ=YEARLY;INTERVAL=1;BYDAY=-1SU;BYMONTH=3
END:DAYLIGHT
BEGIN:STANDARD
TZOFFSETFROM:+0200
TZOFFSETTO:+0100
TZNAME:CET
DTSTART:19701025T030000
RRULE:FREQ=YEARLY;INTERVAL=1;BYDAY=-1SU;BYMONTH=10
END:STANDARD
END:VTIMEZONE
BEGIN:VEVENT
UID:8d05a64f570be7ca854fabc179c6dd31@gruene-wennigsen.de
URL;VALUE=URI:https://gruene-wennigsen.de/termine/einladung-zum-austausch
 -und-zur-diskussion-in-steinkrug/
LOCATION:Hotel und Restaurant Steinkrug, Lindenallee 26, Wennigsen
SUMMARY:Einladung zum Austausch und zur Diskussion – in Steinkrug
DESCRIPTION;ALTREP="data:text/html,%0A%3Cp%3EHotel%20und%20Restaurant%20S
 teinkrug%2C%20Lindenallee%2026%2C%2030974%20Wennigsen%20OS%20Steinkrug%3C
 %2Fp%3E%0A":Hotel und Restaurant Steinkrug\, Lindenallee 26\, 30974 Wenni
 gsen OS Steinkrug
CLASS:PUBLIC
DTSTART;TZID=Europe/Berlin:20260609T190000
DTEND;TZID=Europe/Berlin:20260609T220000
DTSTAMP:20260420T043127
END:VEVENT
END:VCALENDAR