BEGIN:VCALENDAR
VERSION:2.0
PRODID:gruene-wennigsen.de
METHOD:PUBLISH
BEGIN:VTIMEZONE
TZID:Europe/Berlin
X-LIC-LOCATION:Europe/Berlin
BEGIN:DAYLIGHT
TZOFFSETFROM:+0100
TZOFFSETTO:+0200
TZNAME:CEST
DTSTART:19700329T020000
RRULE:FREQ=YEARLY;INTERVAL=1;BYDAY=-1SU;BYMONTH=3
END:DAYLIGHT
BEGIN:STANDARD
TZOFFSETFROM:+0200
TZOFFSETTO:+0100
TZNAME:CET
DTSTART:19701025T030000
RRULE:FREQ=YEARLY;INTERVAL=1;BYDAY=-1SU;BYMONTH=10
END:STANDARD
END:VTIMEZONE
BEGIN:VEVENT
UID:69acbd637947457154d3909b46c4ca2e@gruene-wennigsen.de
URL;VALUE=URI:https://gruene-wennigsen.de/termine/ausschuss-fuer-soziales
 -integration-kultur-sport-und-ehrenamt/
LOCATION:Rathaus, Hauptstraße 1-2, 30974 Wennigsen (Deister), Bürgersaa
 l
SUMMARY:Ausschuss für Soziales, Integration, Kultur, Sport und Ehrenamt
DESCRIPTION;ALTREP="data:text/html,%3Cp%3ELink%20zur%20Tagesordnung%3A%20
 https%3A%2F%2Fwennigsen.ratsinfomanagement.net%2Ftops%2F%3F__%3DUGhVM0hpd
 2NXNFdFcExjZRuW9B81Qshn9foSwu4_SW8%3C%2Fp%3E":Link zur Tagesordnung: http
 s://wennigsen.ratsinfomanagement.net/tops/?__=UGhVM0hpd2NXNFdFcExjZRuW9B8
 1Qshn9foSwu4_SW8
CLASS:PUBLIC
DTSTART;TZID=Europe/Berlin:20261006T183000
DTEND;TZID=Europe/Berlin:20261006T200000
DTSTAMP:20260420T043225
END:VEVENT
END:VCALENDAR